BEGIN:VCALENDAR
VERSION:2.0
PRODID:-//project/author//NONSGML v1.0//EN
CALSCALE:GREGORIAN
BEGIN:VEVENT
DTEND;TZID=Europe/Vienna:20171013T200000
UID:436
DTSTAMP;TZID=Europe/Vienna:20260422T165109
LOCATION:KLI
SUMMARY:Grüsse aus Galápagos
DTSTART;TZID=Europe/Vienna:20171013T180000
END:VEVENT
END:VCALENDAR